BEGIN:VCALENDAR
VERSION:2.0
PRODID:-//ChamberMaster//Event Calendar 2.0//EN
METHOD:PUBLISH
X-PUBLISHED-TTL:P3D
REFRESH-INTERVAL:P3D
CALSCALE:GREGORIAN
BEGIN:VEVENT
DTSTART:20260426T200000Z
DTEND:20260426T230000Z
X-MICROSOFT-CDO-ALLDAYEVENT:FALSE
SUMMARY:Friends of Malibu Urgent Care Groundbreaking Ceremony
DESCRIPTION:Overview Join us for the groundbreaking ceremony of a new state of the art medical facility designed to serve the Malibu community. Friends of Malibu Urgent Care invite you to a groundbreaking ceremony for a new state of the art medical facility designed to serve the Malibu community. Join us on Sunday\, April 26\, 2026 at 1:00 PM at 23656 CA 1\, Malibu\, CA 90265. Food and refreshments from local restaurants will be served. There is no charge to attend\, but advance RSVP is appreciated. We also recommend wearing comfortable shoes\, as guests will be walking on grass. www.friendsofmuc.org
X-ALT-DESC;FMTTYPE=text/html:Overview Join us for the groundbreaking ceremony of a new state of the art medical facility designed to serve the Malibu community. Friends of Malibu Urgent Care invite you to a groundbreaking ceremony for a new state of the art medical facility designed to serve the Malibu community. Join us on Sunday\, April 26\, 2026 at 1:00 PM at 23656 CA 1\, Malibu\, CA 90265. Food and refreshments from local restaurants will be served. There is no charge to attend\, but advance RSVP is appreciated. We also recommend wearing comfortable shoes\, as guests will be walking on grass. www.friendsofmuc.org
LOCATION:Malibu Urgent Care
UID:e.2860.19236
SEQUENCE:3
DTSTAMP:20260424T142437Z
URL:https://business.palibu.org/events/details/friends-of-malibu-urgent-care-groundbreaking-ceremony-19236
END:VEVENT

END:VCALENDAR
